BEGIN:VCALENDAR
VERSION:2.0
PRODID:-//Physician-Scientists//NONSGML Events//EN
CALSCALE:GREGORIAN
X-ORIGINAL-URL:https://physicianscientists.wustl.edu/events/
X-WR-CALDESC:Physician-Scientists - Events
BEGIN:VEVENT
UID:20260205T1845Z-1770317116.1811-EO-3191-1@10.73.7.209
STATUS:CONFIRMED
DTSTAMP:20260421T005959Z
CREATED:20260205T171900Z
LAST-MODIFIED:20260205T223425Z
DTSTART;TZID=America/Chicago:20260225T150000
DTEND;TZID=America/Chicago:20260225T160000
SUMMARY: Young Physician-Scientist Series: “Building your lab team: From 1s
 t hires\, trainees\, and more”
DESCRIPTION: Panelists: Chelsie Sievers\, MD\, PhD\; Vanderbilt University 
 Medical Center Hao Zhu\, MD\, UT Southwestern Medical Center Yash Choksi\, 
 MD\, Vanderbilt University Anna Nam\, MD\, WeilL Cornell Medicine Jonathan 
 Brestoff\, MD\, PhD\, Washington University – St. Louis Jeff Russ\, MD\, Ph
 D\, Duke University Register for Zoom link
X-ALT-DESC;FMTTYPE=text/html: <p>Panelists:<br />Chelsie Sievers\, MD\, PhD
 \; Vanderbilt University Medical Center<br />Hao Zhu\, MD\, UT Southwestern
  Medical Center<br />Yash Choksi\, MD\, Vanderbilt University<br />Anna Nam
 \, MD\, WeilL Cornell Medicine<br />Jonathan Brestoff\, MD\, PhD\, Washingt
 on University - St. Louis<br />Jeff Russ\, MD\, PhD\, Duke University</p><p
 ><a href="https://wustl.az1.qualtrics.com/jfe/form/SV_afJEDWw69zSSUOa">Regi
 ster for Zoom link</a></p>
CATEGORIES:CAPSiT event
ORGANIZER;CN="Lorraine":MAILTO:lschwartz@wustl.edu
URL;VALUE=URI:https://physicianscientists.wustl.edu/events/event/young-phys
 ician-scientist-series/
END:VEVENT
BEGIN:VTIMEZONE
TZID:America/Chicago
BEGIN:STANDARD
TZOFFSETFROM:-0500
TZOFFSETTO:-0600
DTSTART:20251102T070000
TZNAME:CST
END:STANDARD
END:VTIMEZONE
END:VCALENDAR
