BEGIN:VCALENDAR
VERSION:2.0
PRODID:-//Physician-Scientists//NONSGML Events//EN
CALSCALE:GREGORIAN
X-ORIGINAL-URL:https://physicianscientists.wustl.edu/events/
X-WR-CALDESC:Physician-Scientists - Events
BEGIN:VEVENT
UID:20240523T0121Z-1716427312.2309-EO-2965-1@172.23.128.18
STATUS:CONFIRMED
DTSTAMP:20260420T121716Z
CREATED:20240522T205613Z
LAST-MODIFIED:20240522T210140Z
DTSTART;TZID=America/Chicago:20240607T090000
DTEND;TZID=America/Chicago:20240607T170000
SUMMARY: WU Physician-Scientist Symposium
DESCRIPTION: June 7\, 2024 EPNEC Seminar Room B Followed by posters in FLTC
  Join us for the fourth annual WU Physician-Scientist Symposium highlightin
 g the work of Washington University Physician-Scientist Trainees with keyno
 tes by William H. Danforth Washington University Physician-Scientist Schola
 rs Drs. Rodney Newberry and Julie Schwarz. Register until May 3
X-ALT-DESC;FMTTYPE=text/html: <p class="is-style-lead">June 7\, 2024<br />E
 PNEC Seminar Room B</p><p class="is-style-lead">Followed by posters in FLTC
 </p><p>Join us for the fourth annual WU Physician-Scientist Symposium highl
 ighting the work of Washington University Physician-Scientist Trainees with
  keynotes by William H. Danforth Washington University Physician-Scientist 
 Scholars Drs. Rodney Newberry and Julie Schwarz.</p><div class="wp-block-bu
 ttons is-content-justification-center is-layout-flex wp-container-1 wp-bloc
 k-buttons-is-layout-flex"><div class="wp-block-button">Register until May 3
 </div></div>
CATEGORIES:CAPSiT event
ORGANIZER;CN="Lorraine":MAILTO:lschwartz@wustl.edu
URL;VALUE=URI:https://physicianscientists.wustl.edu/events/event/wu-physici
 an-scientist-symposium-2/
END:VEVENT
BEGIN:VTIMEZONE
TZID:America/Chicago
BEGIN:DAYLIGHT
TZOFFSETFROM:-0600
TZOFFSETTO:-0500
DTSTART:20240310T080000
TZNAME:CDT
END:DAYLIGHT
END:VTIMEZONE
END:VCALENDAR
