BEGIN:VCALENDAR
VERSION:2.0
PRODID:-//Physician-Scientists//NONSGML Events//EN
CALSCALE:GREGORIAN
X-ORIGINAL-URL:https://physicianscientists.wustl.edu/events/
X-WR-CALDESC:Physician-Scientists - Events
BEGIN:VEVENT
UID:20230912T2101Z-1694552490.8469-EO-2882-1@172.23.128.18
STATUS:CONFIRMED
DTSTAMP:20260425T202519Z
CREATED:20230912T192447Z
LAST-MODIFIED:20230912T192447Z
DTSTART;TZID=America/Chicago:20231011T163000
DTEND;TZID=America/Chicago:20231011T173000
SUMMARY: October CAPSiT Meeting
DESCRIPTION: “Human Subjects Research Protection: IRB Processes and Tips” J
 ulie Moyer Education and Compliance Specialist Human Research Protection Of
 fice Join Zoom Meeting  
X-ALT-DESC;FMTTYPE=text/html: <p>"Human Subjects Research Protection: IRB P
 rocesses and Tips"</p><p>Julie Moyer<br />Education and Compliance Speciali
 st<br />Human Research Protection Office</p><p><a href="https://wustl.box.c
 om/s/8ft297k90829x9k9kadp8i2e0qgm01bj">Join Zoom Meeting</a></p><p> </p>
CATEGORIES:CAPSiT event
ORGANIZER;CN="Lorraine":MAILTO:lschwartz@wustl.edu
URL;VALUE=URI:https://physicianscientists.wustl.edu/events/event/october-ca
 psit-meeting/
END:VEVENT
BEGIN:VTIMEZONE
TZID:America/Chicago
BEGIN:DAYLIGHT
TZOFFSETFROM:-0600
TZOFFSETTO:-0500
DTSTART:20230312T080000
TZNAME:CDT
END:DAYLIGHT
END:VTIMEZONE
END:VCALENDAR
