BEGIN:VCALENDAR
VERSION:2.0
PRODID:-//Physician-Scientists//NONSGML Events//EN
CALSCALE:GREGORIAN
X-ORIGINAL-URL:https://physicianscientists.wustl.edu/events/
X-WR-CALDESC:Physician-Scientists - Events
BEGIN:VEVENT
UID:20231013T2318Z-1697239112.9263-EO-2888-1@172.23.128.18
STATUS:CONFIRMED
DTSTAMP:20260422T130822Z
CREATED:20231013T121523Z
LAST-MODIFIED:20231013T121523Z
DTSTART;TZID=America/Chicago:20231108T163000
DTEND;TZID=America/Chicago:20231108T173000
SUMMARY: November CAPSiT Meeting
DESCRIPTION: CAPSiT: Growth and Development of a New Lab Juliane Bubeck-War
 denburg\, MD\, PhD Donald B Strominger\, MD Professor of Pediatrics Critica
 l Care Medicine Division Director Wednesday\, November 8\, 2023 4:30PM Join
  Zoom Meeting https://wustl.box.com/s/8ft297k90829x9k9kadp8i2e0qgm01bj Meet
 ing ID: 992 0832 2396 Passcode: 347802
X-ALT-DESC;FMTTYPE=text/html: <p style="font-weight: 400\;">CAPSiT: Growth 
 and Development of a New Lab</p><p style="font-weight: 400\;">Juliane Bubec
 k-Wardenburg\, MD\, PhD<br />Donald B Strominger\, MD Professor of Pediatri
 cs<br />Critical Care Medicine Division Director</p><p style="font-weight: 
 400\;">Wednesday\, November 8\, 2023</p><p style="font-weight: 400\;">4:30P
 M</p><p style="font-weight: 400\;">Join Zoom Meeting<br /><a href="https://
 wustl.box.com/s/8ft297k90829x9k9kadp8i2e0qgm01bj">https://wustl.box.com/s/8
 ft297k90829x9k9kadp8i2e0qgm01bj</a></p><p style="font-weight: 400\;">Meetin
 g ID: 992 0832 2396<br />Passcode: 347802</p>
CATEGORIES:CAPSiT event
ORGANIZER;CN="Lorraine":MAILTO:lschwartz@wustl.edu
URL;VALUE=URI:https://physicianscientists.wustl.edu/events/event/november-c
 apsit-meeting/
END:VEVENT
BEGIN:VTIMEZONE
TZID:America/Chicago
BEGIN:STANDARD
TZOFFSETFROM:-0500
TZOFFSETTO:-0600
DTSTART:20231105T070000
TZNAME:CST
END:STANDARD
END:VTIMEZONE
END:VCALENDAR
