BEGIN:VCALENDAR
VERSION:2.0
PRODID:-//Physician-Scientists//NONSGML Events//EN
CALSCALE:GREGORIAN
X-ORIGINAL-URL:https://physicianscientists.wustl.edu/events/
X-WR-CALDESC:Physician-Scientists - Events
BEGIN:VEVENT
UID:20211220T1912Z-1640027530.7438-EO-1796-1@172.23.128.19
STATUS:CONFIRMED
DTSTAMP:20260420T060820Z
CREATED:20211220T131333Z
LAST-MODIFIED:20211220T131333Z
DTSTART;TZID=America/Chicago:20220105T163000
DTEND;TZID=America/Chicago:20220105T173000
SUMMARY: No TIPS meeting in January
DESCRIPTION: Happy New Year! There will be no TIPS conference in January. S
 ee you on February 2\, 2022
X-ALT-DESC;FMTTYPE=text/html: <p>Happy New Year! There will be no TIPS conf
 erence in January. See you on February 2\, 2022</p>
CATEGORIES:TIPS meeting
ORGANIZER;CN="Jacqueline":MAILTO:jahawkin@wustl.edu
URL;VALUE=URI:https://physicianscientists.wustl.edu/events/event/no-tips-me
 eting-in-january/
END:VEVENT
BEGIN:VTIMEZONE
TZID:America/Chicago
BEGIN:STANDARD
TZOFFSETFROM:-0500
TZOFFSETTO:-0600
DTSTART:20211107T070000
TZNAME:CST
END:STANDARD
END:VTIMEZONE
END:VCALENDAR
