BEGIN:VCALENDAR
VERSION:2.0
PRODID:-//Physician-Scientists//NONSGML Events//EN
CALSCALE:GREGORIAN
X-ORIGINAL-URL:https://physicianscientists.wustl.edu/events/
X-WR-CALDESC:Physician-Scientists - Events
BEGIN:VEVENT
UID:20230614T0412Z-1686715922.2911-EO-2553-1@172.23.128.18
STATUS:CONFIRMED
DTSTAMP:20260422T191327Z
CREATED:20230613T181848Z
LAST-MODIFIED:20230615T161438Z
DTSTART;TZID=America/Chicago:20230712T163000
DTEND;TZID=America/Chicago:20230712T173000
SUMMARY: July 2023 TIPS Meeting
DESCRIPTION: NOTE: This TIPS meeting is on a special date due to the July 4
  holiday Presenters: Angela Lee\, MD PGY-4  Departments of Pediatrics / Gen
 etics & Genomic Medicine “SINO Syndrome Associated with Heterozygous KIDINS
 220 Variants: A More Severe Presentation” Join Zoom Meeting
X-ALT-DESC;FMTTYPE=text/html: <p class="xmsonormal"><b>NOTE: This TIPS meet
 ing is on a special date due to the July 4 holiday<br /></b></p><p class="x
 msonormal">Presenters:</p><p class="xmsonormal">Angela Lee\, MD PGY-4<span 
 class="apple-converted-space"> </span><br />Departments of Pediatrics / Gen
 etics & Genomic Medicine</p><p class="xmsonormal">“<i>SINO Syndrome Associa
 ted with Heterozygous<span class="xapple-converted-space"> </span>KIDINS220
 <span class="xapple-converted-space"> </span>Variants: A More Severe Presen
 tation</i>”</p><p><a href="https://wustl.app.box.com/integrations/officeonl
 ine/openOfficeOnline?fileId=1139328274764&sharedAccessCode=">Join Zoom Meet
 ing</a></p>
CATEGORIES:TIPS meeting
ORGANIZER;CN="Lorraine":MAILTO:lschwartz@wustl.edu
URL;VALUE=URI:https://physicianscientists.wustl.edu/events/event/july-2023-
 tips-meeting/
END:VEVENT
BEGIN:VTIMEZONE
TZID:America/Chicago
BEGIN:DAYLIGHT
TZOFFSETFROM:-0600
TZOFFSETTO:-0500
DTSTART:20230312T080000
TZNAME:CDT
END:DAYLIGHT
END:VTIMEZONE
END:VCALENDAR
