BEGIN:VCALENDAR
VERSION:2.0
PRODID:-//Physician-Scientists//NONSGML Events//EN
CALSCALE:GREGORIAN
X-ORIGINAL-URL:https://physicianscientists.wustl.edu/events/
X-WR-CALDESC:Physician-Scientists - Events
BEGIN:VEVENT
UID:20210823T1916Z-1629746188.6715-EO-1684-1@172.23.128.19
STATUS:CONFIRMED
DTSTAMP:20260421T141427Z
CREATED:20210823T133746Z
LAST-MODIFIED:20220331T145747Z
DTSTART;TZID=America/Chicago:20220413T163000
DTEND;TZID=America/Chicago:20220413T173000
SUMMARY: CAPSiT Seminar: Publishing – A Journal Editor’s Perspective (Hybri
 d Event)
DESCRIPTION: Presenter: Deborah Veis\, MD\, PhD Professor\, Medicine and Pa
 thology & Immunology Editor-in-chief\, Journal of Bone and Mineral Research
  This will be a hybrid event held in – person in EPNEC Seminar Room A. If y
 ou would like to call in\, you can find Zoom Links here
X-ALT-DESC;FMTTYPE=text/html: <p>Presenter:</p><p>Deborah Veis\, MD\, PhD<b
 r /><em>Professor\, Medicine and Pathology & Immunology<br />Editor-in-chie
 f\, Journal of Bone and Mineral Research</em></p><p>This will be a hybrid e
 vent held in - person in EPNEC Seminar Room A. If you would like to call in
 \, you can find Zoom Links <a href="https://wustl.box.com/s/c4iiitu2cipuiot
 dlfog8fgekgahcegb">here</a></p>
CATEGORIES:CAPSiT event
LOCATION:EPNEC (hybrid)
GEO:41.875562;-87.624421
ORGANIZER;CN="Jacqueline":MAILTO:jahawkin@wustl.edu
URL;VALUE=URI:https://physicianscientists.wustl.edu/events/event/capsit-sem
 inar-publishing-a-journal-editors-perspective/
END:VEVENT
BEGIN:VTIMEZONE
TZID:America/Chicago
BEGIN:DAYLIGHT
TZOFFSETFROM:-0600
TZOFFSETTO:-0500
DTSTART:20220313T080000
TZNAME:CDT
END:DAYLIGHT
END:VTIMEZONE
END:VCALENDAR
