BEGIN:VCALENDAR
VERSION:2.0
PRODID:-//Physician-Scientists//NONSGML Events//EN
CALSCALE:GREGORIAN
X-ORIGINAL-URL:https://physicianscientists.wustl.edu/events/
X-WR-CALDESC:Physician-Scientists - Events
BEGIN:VEVENT
UID:20210823T1916Z-1629746188.6764-EO-1687-1@172.23.128.19
STATUS:CONFIRMED
DTSTAMP:20260424T144741Z
CREATED:20210823T133955Z
LAST-MODIFIED:20210823T134217Z
DTSTART;TZID=America/Chicago:20220511T163000
DTEND;TZID=America/Chicago:20220511T173000
SUMMARY: CAPSiT Seminar: Jeffrey I. Gordon\, MD
DESCRIPTION: Find Zoom Links here Jeffrey I Gordon\, MD Dr. Robert J. Glase
 r Distinguished University Professor
X-ALT-DESC;FMTTYPE=text/html: <p>Find Zoom Links <a href="https://wustl.box
 .com/s/c4iiitu2cipuiotdlfog8fgekgahcegb">here</a></p><p>Jeffrey I Gordon\, 
 MD<br /><em>Dr. Robert J. Glaser Distinguished University Professor</em></p
 >
CATEGORIES:CAPSiT event
LOCATION:Zoom
GEO:41.875562;-87.624421
ORGANIZER;CN="Jacqueline":MAILTO:jahawkin@wustl.edu
URL;VALUE=URI:https://physicianscientists.wustl.edu/events/event/capsit-sem
 inar-jeffrey-i-gordon-md/
END:VEVENT
BEGIN:VTIMEZONE
TZID:America/Chicago
BEGIN:DAYLIGHT
TZOFFSETFROM:-0600
TZOFFSETTO:-0500
DTSTART:20220313T080000
TZNAME:CDT
END:DAYLIGHT
END:VTIMEZONE
END:VCALENDAR
