BEGIN:VCALENDAR
VERSION:2.0
PRODID:-//Physician-Scientists//NONSGML Events//EN
CALSCALE:GREGORIAN
X-ORIGINAL-URL:https://physicianscientists.wustl.edu/events/
X-WR-CALDESC:Physician-Scientists - Events
BEGIN:VEVENT
UID:20210823T1916Z-1629746188.6376-EO-1666-1@172.23.128.19
STATUS:CONFIRMED
DTSTAMP:20260425T143907Z
CREATED:20210823T133014Z
LAST-MODIFIED:20210922T151922Z
DTSTART;TZID=America/Chicago:20211013T163000
DTEND;TZID=America/Chicago:20211013T173000
SUMMARY: CAPSiT Seminar: Career Development Awards for Physician-Scientists
 \, Foundation Funders
DESCRIPTION: Find Zoom Links here Career development awards from foundation
 s can provide much-needed funds to support your research and protected time
 . But how do you know which programs to apply for? Eligibility windows can 
 be narrow\, so how can you be sure to catch them? What are foundations look
 ing for and how do you craft a compelling […]
X-ALT-DESC;FMTTYPE=text/html: <p>Find Zoom Links <a href="https://wustl.box
 .com/s/c4iiitu2cipuiotdlfog8fgekgahcegb">here</a></p><p>Career development 
 awards from foundations can provide much-needed funds to support your resea
 rch and protected time. But how do you know which programs to apply for? El
 igibility windows can be narrow\, so how can you be sure to catch them? Wha
 t are foundations looking for and how do you craft a compelling proposal? H
 ow do these programs differ from those of the NIH\, and should you apply fo
 r both? Join us to get answers to these questions and more\, as well as ask
  questions of former recipients of foundation grants. We will discuss gener
 al guidelines as well as specific programs including BWF CAMS\, Doris Duke 
 Physician-Scientist Fellowship and Clinical Scientist Development Award\, D
 amon Runyon Clinical Investigator Program\, and others.</p><p>Jacqui Hawkin
 s\, PhD<br /><em>Director\, Scientific Training of Physician-Scientists</em
 ></p><p>Danny Jaschek<br /><em>Sr. Associate Director\, Corporate and Found
 ation Relations</em></p><p>Glenn Floyd<br /><em>Associate Director\, Corpor
 ate and Foundation Relations</em></p><div class="wp-block-columns"><div cla
 ss="wp-block-column"></div></div>
CATEGORIES:CAPSiT event
LOCATION:Zoom
GEO:41.875562;-87.624421
ORGANIZER;CN="Jacqueline":MAILTO:jahawkin@wustl.edu
URL;VALUE=URI:https://physicianscientists.wustl.edu/events/event/capsit-sem
 inar-career-development-awards-foundation-funders/
END:VEVENT
BEGIN:VTIMEZONE
TZID:America/Chicago
BEGIN:DAYLIGHT
TZOFFSETFROM:-0600
TZOFFSETTO:-0500
DTSTART:20210314T080000
TZNAME:CDT
END:DAYLIGHT
END:VTIMEZONE
END:VCALENDAR
