BEGIN:VCALENDAR
VERSION:2.0
PRODID:-//Physician-Scientists//NONSGML Events//EN
CALSCALE:GREGORIAN
X-ORIGINAL-URL:https://physicianscientists.wustl.edu/events/
X-WR-CALDESC:Physician-Scientists - Events
BEGIN:VEVENT
UID:20230228T1006Z-1677578784.2825-EO-2521-1@172.23.128.18
STATUS:CONFIRMED
DTSTAMP:20260422T201815Z
CREATED:20230227T202409Z
LAST-MODIFIED:20230227T202409Z
DTSTART;TZID=America/Chicago:20230308T163000
DTEND;TZID=America/Chicago:20230308T173000
SUMMARY: CAPSiT: Parenting as a Physician-Scientist
DESCRIPTION: “Parenting as a Physician-Scientist” Panelists: Stacy Rentschl
 er\, MD\, PhD Associate Professor of Medicine – Cardiovascular Division Nat
 han Singh\, MD Assistant Professor of Medicine Division of Oncology – Stem 
 Cell Biology Laneshia Tague\, MD\, MSCI Assistant Professor of Medicine Div
 ision of Pulmonary & Critical Care Zoom link
X-ALT-DESC;FMTTYPE=text/html: <p>"Parenting as a Physician-Scientist"</p><p
 >Panelists:</p><p>Stacy Rentschler\, MD\, PhD<br />Associate Professor of M
 edicine - Cardiovascular Division</p><p>Nathan Singh\, MD<br />Assistant Pr
 ofessor of Medicine<br />Division of Oncology - Stem Cell Biology</p><p>Lan
 eshia Tague\, MD\, MSCI<br />Assistant Professor of Medicine<br /><span sty
 le="font-size: 1.125rem\;">Division of Pulmonary & Critical Care</span></p>
 <p><a href="https://wustl.app.box.com/file/1003178520725?s=qar42yfi7mh5j1vp
 akgbwhyk76ja6xir">Zoom link</a></p>
CATEGORIES:CAPSiT event
ORGANIZER;CN="Lorraine":MAILTO:lschwartz@wustl.edu
URL;VALUE=URI:https://physicianscientists.wustl.edu/events/event/capsit-par
 enting-as-a-physician-scientist/
ATTACH;FMTTYPE=image/png:https://physicianscientists.wustl.edu/app/uploads/2023/02/CAPSIT-3.4.2023.png
END:VEVENT
BEGIN:VTIMEZONE
TZID:America/Chicago
BEGIN:STANDARD
TZOFFSETFROM:-0500
TZOFFSETTO:-0600
DTSTART:20221106T070000
TZNAME:CST
END:STANDARD
END:VTIMEZONE
END:VCALENDAR
