BEGIN:VCALENDAR
VERSION:2.0
PRODID:-//Physician-Scientists//NONSGML Events//EN
CALSCALE:GREGORIAN
X-ORIGINAL-URL:https://physicianscientists.wustl.edu/events/
X-WR-CALDESC:Physician-Scientists - Events
BEGIN:VEVENT
UID:20210823T1916Z-1629746188.6594-EO-1675-1@172.23.128.19
STATUS:CONFIRMED
DTSTAMP:20260413T100744Z
CREATED:20210823T133359Z
LAST-MODIFIED:20211213T191752Z
DTSTART;TZID=America/Chicago:20220112T163000
DTEND;TZID=America/Chicago:20220112T173000
SUMMARY: CAPSiT Panel: Landing Your First Faculty Job
DESCRIPTION: Find Zoom Links here Panelists Abby Green\, MD Assistant Profe
 ssor\, Pediatrics – Infectious Disease Carl DeSelm\, MD\, PhD Assistant Pro
 fessor\, Radiation Oncology Kory Lavine\, MD\, PhD Associate  Professor\, M
 edicine – Cardiovascular
X-ALT-DESC;FMTTYPE=text/html: <p>Find Zoom Links <a href="https://wustl.box
 .com/s/c4iiitu2cipuiotdlfog8fgekgahcegb">here</a></p><p><span style="text-d
 ecoration: underline\;">Panelists</span></p><p>Abby Green\, MD<br /><em>Ass
 istant Professor\, Pediatrics – Infectious Disease</em></p><p>Carl DeSelm\,
  MD\, PhD<br /><em>Assistant Professor\, Radiation Oncology</em></p><p>Kory
  Lavine\, MD\, PhD<br /><em>Associate  Professor\, Medicine – Cardiovascula
 r</em></p>
CATEGORIES:CAPSiT event
LOCATION:Zoom
GEO:41.875562;-87.624421
ORGANIZER;CN="Jacqueline":MAILTO:jahawkin@wustl.edu
URL;VALUE=URI:https://physicianscientists.wustl.edu/events/event/capsit-pan
 el-landing-your-first-faculty-job/
END:VEVENT
BEGIN:VTIMEZONE
TZID:America/Chicago
BEGIN:STANDARD
TZOFFSETFROM:-0500
TZOFFSETTO:-0600
DTSTART:20211107T070000
TZNAME:CST
END:STANDARD
END:VTIMEZONE
END:VCALENDAR
