BEGIN:VCALENDAR
VERSION:2.0
PRODID:-//Physician-Scientists//NONSGML Events//EN
CALSCALE:GREGORIAN
X-ORIGINAL-URL:https://physicianscientists.wustl.edu/events/
X-WR-CALDESC:Physician-Scientists - Events
BEGIN:VEVENT
UID:20220908T0606Z-1662617198.278-EO-2086-1@172.23.128.19
STATUS:CONFIRMED
DTSTAMP:20260420T141528Z
CREATED:20220907T184028Z
LAST-MODIFIED:20221010T114332Z
DTSTART;TZID=America/Chicago:20221109T163000
DTEND;TZID=America/Chicago:20221109T173000
SUMMARY: CAPSiT: Finding the right mentor for YOU
DESCRIPTION: In this collaboration with the MEDA program\, panelists will d
 iscuss show mentoring has shaped their careers\, and how best to find the b
 est mentors for your unique journey. Join us in person in EPNEC Seminar Roo
 m B or access the zoom link  HERE Panelists: Milan Chheda\, MD Associate Pr
 ofessor of Medicine – Oncology Francesca Ferrara\, […]
X-ALT-DESC;FMTTYPE=text/html: <p>In this collaboration with the MEDA progra
 m\, panelists will discuss show mentoring has shaped their careers\, and ho
 w best to find the best mentors for your unique journey.</p><p>Join us in p
 erson in EPNEC Seminar Room B or access the zoom link  <a href="https://wus
 tl.box.com/s/qar42yfi7mh5j1vpakgbwhyk76ja6xir">HERE</a></p><p>Panelists:</p
 ><p><i>Milan Chheda\, MD</i><br />Associate Professor of Medicine - Oncolog
 y</p><p><i>Francesca Ferrara\, MD</i><br />Assistant Professor of Medicine 
 - Oncology</p><p><i>Lannis Hall\, MD\, PhD</i><br />Associate Professor of 
 Clinical Radiation Oncology<br />Medical Director of Radiation Oncology\, S
 iteman Cancer Center at Barnes-Jewish St. Peters Hospital<br />Clinical Tri
 als Leader\, Program to Eliminate Cancer Disparities</p><p><i>Deborah Rubin
 \, MD\, AGAF</i><br />William B. Kountz Professor of Medicine<br />Associat
 e Director for Faculty Affairs<br />Director\, Womens' GI Committee</p><p>M
 oderator:<br /><em>Jessica Silva-Fisher\, PhD</em><br />Director\, Mentorsh
 ip to Enhance Diversity in Academia (MEDA)<br />Assistant Professor of Medi
 cine - Oncology</p><p> </p>
CATEGORIES:CAPSiT event
LOCATION:Zoom
GEO:41.875562;-87.624421
ORGANIZER;CN="Lorraine":MAILTO:lschwartz@wustl.edu
URL;VALUE=URI:https://physicianscientists.wustl.edu/events/event/capsit-fin
 ding-the-right-mentor-for-you/
END:VEVENT
BEGIN:VTIMEZONE
TZID:America/Chicago
BEGIN:STANDARD
TZOFFSETFROM:-0500
TZOFFSETTO:-0600
DTSTART:20221106T070000
TZNAME:CST
END:STANDARD
END:VTIMEZONE
END:VCALENDAR
