BEGIN:VCALENDAR
VERSION:2.0
PRODID:-//Physician-Scientists//NONSGML Events//EN
CALSCALE:GREGORIAN
X-ORIGINAL-URL:https://physicianscientists.wustl.edu/events/
X-WR-CALDESC:Physician-Scientists - Events
BEGIN:VEVENT
UID:20220908T0606Z-1662617198.2815-EO-2092-1@172.23.128.19
STATUS:CONFIRMED
DTSTAMP:20260419T234104Z
CREATED:20220907T184830Z
LAST-MODIFIED:20220907T184830Z
DTSTART;TZID=America/Chicago:20221214T163000
DTEND;TZID=America/Chicago:20221214T173000
SUMMARY: CAPSiT: Educational Loan Repayment/Forgiveness Programs (NIH LRP a
 nd PSLF)
DESCRIPTION: Bridget O’Neal Assistant Dean and Director of Financial Aid\, 
 WUSM Washington University NIH LRP Recipients Zoom link can be found HERE  
X-ALT-DESC;FMTTYPE=text/html: <p><i>Bridget O'Neal</i><br />Assistant Dean 
 and Director of Financial Aid\, WUSM</p><p><i>Washington </i><i>University<
 /i><i> NIH LRP Recipients</i></p><p>Zoom link can be found <a href="https:/
 /wustl.box.com/s/qar42yfi7mh5j1vpakgbwhyk76ja6xir">HERE</a></p><p> </p>
CATEGORIES:CAPSiT event
ORGANIZER;CN="Lorraine":MAILTO:lschwartz@wustl.edu
URL;VALUE=URI:https://physicianscientists.wustl.edu/events/event/capsit-edu
 cational-loan-repayment-forgiveness-programs-nih-lrp-and-pslf/
END:VEVENT
BEGIN:VTIMEZONE
TZID:America/Chicago
BEGIN:STANDARD
TZOFFSETFROM:-0500
TZOFFSETTO:-0600
DTSTART:20221106T070000
TZNAME:CST
END:STANDARD
END:VTIMEZONE
END:VCALENDAR
