BEGIN:VCALENDAR
VERSION:2.0
PRODID:-//Physician-Scientists//NONSGML Events//EN
CALSCALE:GREGORIAN
X-ORIGINAL-URL:https://physicianscientists.wustl.edu/events/
X-WR-CALDESC:Physician-Scientists - Events
BEGIN:VEVENT
UID:20230315T1947Z-1678909675.0631-EO-2532-1@172.23.128.18
STATUS:CONFIRMED
DTSTAMP:20260420T165836Z
CREATED:20230315T172332Z
LAST-MODIFIED:20230519T135924Z
DTSTART;VALUE=DATE:20230519
DTEND;VALUE=DATE:20230520
SUMMARY: 2023 Physician-Scientist Symposium
DESCRIPTION: 2023 Physician-Scientist Symposium May 19\, 2023 EPNEC Auditor
 ium Agenda Webinar Link POSTPONED The Stuart Kornfeld Physician-Scientist L
 ecture has been postponed. Please check back in the summer for information 
 about the new date and time Keynote and First Annual Stuart Kornfeld Physic
 ian-Scientist Lecture Joseph L. Goldstein M.D. Regental Professor\, Dept. o
 f Molecular Genetics UT Southwestern School […]
X-ALT-DESC;FMTTYPE=text/html: <h2 class="wp-block-heading">2023 Physician-S
 cientist Symposium</h2><p><!-- /wp:heading --> <!-- wp:paragraph {"placehol
 der":"Write paragraph..."\,"className":"is-style-lead"} --></p><p class="is
 -style-lead">May 19\, 2023<br />EPNEC Auditorium</p><p><!-- /wp:paragraph -
 -> <!-- wp:buttons {"layout":{"type":"flex"\,"justifyContent":"center"}} --
 ></p><div class="wp-block-buttons"><!-- wp:button --></p><div class="wp-blo
 ck-button"><a class="wp-block-button__link wp-element-button" href="https:/
 /wustl.box.com/s/eo9h1obltej8ntkhautszaxdw0gnzcer" target="_blank" rel="nor
 eferrer noopener">Agenda</a></div><p><!-- /wp:button --> <!-- wp:button -->
 </p><div class="wp-block-button"><a class="wp-block-button__link wp-element
 -button" href="https://wustl-hipaa.zoom.us/j/94879377780?pwd=T3crOEZrQmVWRk
 MwaHVoQ3g2ZWVlQT09" target="_blank" rel="noreferrer noopener">Webinar Link<
 /a></div><p><!-- /wp:button --></div><p><!-- /wp:buttons --> <!-- wp:paragr
 aph --></p><p><!-- wp:paragraph {"className":"is-style-lead"} --></p><p cla
 ss="is-style-lead"><strong>POSTPONED</strong></p><p><!-- /wp:paragraph --> 
 <!-- wp:paragraph --></p><p>The Stuart Kornfeld Physician-Scientist Lecture
  has been postponed. Please check back in the summer for information about 
 the new date and time</p><p><!-- /wp:paragraph --> <!-- wp:paragraph {"clas
 sName":"is-style-disclaimer"} --></p><p class="is-style-disclaimer"><strong
 >Keynote and First Annual Stuart Kornfeld</strong> <strong>Physician-Scient
 ist Lecture</strong></p><p><!-- /wp:paragraph --> <!-- wp:paragraph {"class
 Name":"is-style-lead"} --></p><p class="is-style-lead"><strong>Joseph L. Go
 ldstein M.D.</strong></p><p><!-- /wp:paragraph --> <!-- wp:paragraph --></p
 ><p>Regental Professor\, Dept. of Molecular Genetics<br />UT Southwestern S
 chool of Medicine<br />Nobel Prize in Physiology or Medicine\, 1985</p><p><
 !-- /wp:paragraph --></p>
CATEGORIES:CAPSiT event
ORGANIZER;CN="Lorraine":MAILTO:lschwartz@wustl.edu
URL;VALUE=URI:https://physicianscientists.wustl.edu/events/event/2023-physi
 cian-scientist-symposium/
END:VEVENT
BEGIN:VTIMEZONE
TZID:America/Chicago
BEGIN:DAYLIGHT
TZOFFSETFROM:-0600
TZOFFSETTO:-0500
DTSTART:20230312T080000
TZNAME:CDT
END:DAYLIGHT
END:VTIMEZONE
END:VCALENDAR
